BEGIN:VCALENDAR
VERSION:2.0
PRODID:-//Sindcon - ECPv6.15.13.1//NONSGML v1.0//EN
CALSCALE:GREGORIAN
METHOD:PUBLISH
X-WR-CALNAME:Sindcon
X-ORIGINAL-URL:https://sinconsetesl.com.br
X-WR-CALDESC:Eventos para Sindcon
REFRESH-INTERVAL;VALUE=DURATION:PT1H
X-Robots-Tag:noindex
X-PUBLISHED-TTL:PT1H
BEGIN:VTIMEZONE
TZID:UTC
BEGIN:STANDARD
TZOFFSETFROM:+0000
TZOFFSETTO:+0000
TZNAME:UTC
DTSTART:20220101T000000
END:STANDARD
END:VTIMEZONE
BEGIN:VEVENT
DTSTART;TZID=UTC:20250909T190000
DTEND;TZID=UTC:20250909T230000
DTSTAMP:20260424T001120
CREATED:20250901T184058Z
LAST-MODIFIED:20250901T190627Z
UID:1717-1757444400-1757458800@sinconsetesl.com.br
SUMMARY:A Reforma Tributária e seus impactos
DESCRIPTION:A Reforma Tributária e seus impactos Entrada franca Dia: 09/09/2025 Horário: 19H00 Local: Sede do Sindicato dos contabilistas de Sete Lagoas. Rua Espinhosa – Padre Teodoro\, Sete Lagoas – MG \n\n\n\nPalestrante : Jorlevany Regino Silva Vieira. Necessário confirma presença pelo telefone 3771-3880 (Karolina) ou 3772-4211 Promoção Sindicato dos contabilistas de sete Lagoas. Apoio: CRCMG.
URL:https://sinconsetesl.com.br/evento/a-reforma-tributaria-e-seus-impactos/
END:VEVENT
BEGIN:VEVENT
DTSTART;TZID=UTC:20231118T080000
DTEND;TZID=UTC:20231118T170000
DTSTAMP:20260424T001120
CREATED:20231112T155656Z
LAST-MODIFIED:20231112T160419Z
UID:1585-1700294400-1700326800@sinconsetesl.com.br
SUMMARY:CURSO ONLINE: RETENÇÕES NA FONTE-TRIBUTOS FEDERAIS
DESCRIPTION:Análise e Interpretação da legislação tributária no que se refere as retenções. Abordagem prática da retenção do imposto de renda (pessoas físicas e jurídica)\, a retenção das contribuições federais (PIS\, COFINS e CSLL)\, a retenção\, etc. \n  \nObjetivo\nAnálise e Interpretação da legislação tributária no que se refere as retenções. Abordagem prática da retenção do imposto de renda (pessoas físicas e jurídica)\, a retenção das contribuições federais (PIS\, COFINS e CSLL)\, a retenção do Imposto sobre Serviços (ISS) e retenção do INSS. \nPúblico\nContadores\, tributaristas\, profissionais da área fiscal\, financeira\, administrativa\, estudantes e aos demais interessados \nPrograma\nRetenção Imposto de Renda – Pessoa Física \n\nAspectos Tributários- Constituição Federal e Código Tributário Nacional\nAspectos Tributários – Regulamento do Imposto de Renda\nResponsáveis pela retenção na fonte e recolhimento\nPenalidades da não retenção ou recolhimento do IRRF\nIRRF na prestação de serviço assalariado\nIRRF na prestação de serviço autônomo\nIRRF nas remunerações indiretas\nIRRF nos resgates de previdência privada\nIRRF nos lucros ou participações nos resultados da empresa\nIRRF nos serviços de transporte de cargas e passageiros\nCarnê-leão\nAplicação ao Simples Nacional\n\nRetenção Imposto de Renda – Pessoa Jurídica (1% e 1\,5%) \n\nRendimentos recebidos por Pessoa Jurídica\nServiços sujeitos à retenção na fonte\nServiços de limpeza\, conservação\, segurança e locação de mão de obra prestados por Pessoa Jurídica\nComissões e corretagens pagas a Pessoa Jurídica\nServiços de publicidade e propaganda\nServiços prestados por associados de cooperativas de trabalho\nRendimentos de capital\nOutros rendimentos\nPenalidades no atraso dos recolhimentos\nAplicação ao Simples Nacional\n\nRetenções na fonte de INSS (3\,5% e 11%) \n\nRecolhimentos efetuados por empresas\nRecolhimento Lucro real e Lucro Presumido\nRecolhimento Simples Nacional\nContribuição previdenciária – Visão Constitucional\nRetenção INSS segurado empregado\nRetenção INSS contribuinte individual\nINSS salário contribuição\nAspecto Pessoal – sujeito passivo\nAspecto Pessoal – responsável pelo recolhimento\nAspecto quantitativo – base de cálculo e alíquota\nAspecto Temporal – momento da retenção\nComo calcular o INSS a recolher\nComo recolher o INSS\nRecolhimento a menor\, a maior e indevido\nRecolhimento fora do prazo\nINSS cessão ou empreitada\nINSS na construção civil\nCompensações e restituições\nObrigações acessórias\n\nRetenção de ISS – Imposto Sobre Serviços – Lei Complementar nº 116/2003 \n\nAspecto Pessoal – Contribuinte do ISS\nAspecto Material – fato gerador do ISS\nAspecto Especial – local de pagamento do ISS\nAspecto Quantitativo – base de cálculo e alíquotas\nRetenção na fonte\nResponsável pelo pagamento\nPrazo de pagamento\nObrigação Acessória – nota fiscal\nLista de serviços anexa à Lei Complementar nº 116/2003\nAplicação ao Simples Nacional\n\nRetenção das contribuições federais: CSLL\, PIS e COFINS \n\nResponsável pela retenção das contribuições\nServiços sujeitos ou não à retenção\nBase de cálculo e percentual\nMomento de ocorrência da Retenção\nData da compensação\nPrazo e local de recolhimento\nPagamento igual ou inferior a R$ 10\,00\nObrigações acessórias- nota fiscal destaque\nAplicação ao Simples Nacional
URL:https://sinconsetesl.com.br/evento/curso-online-retencoes-na-fonte-tributos-federais/
LOCATION:Unifemm\, Av. Marechal Castelo Branco\, nº 2765\, Bairro Santo Antônio\, Sete Lagoas\, Minas Gerais\, 35700000\, Brasil
ATTACH;FMTTYPE=image/jpeg:https://sinconsetesl.com.br/wp-content/uploads/2023/11/tributos.jpg
END:VEVENT
END:VCALENDAR